BEGIN:VCALENDAR
VERSION:2.0
PRODID:-//Visit Monchio Delle Corti - ECPv6.15.17.1//NONSGML v1.0//EN
CALSCALE:GREGORIAN
METHOD:PUBLISH
X-ORIGINAL-URL:https://www.visitmonchiodellecorti.it
X-WR-CALDESC:Eventi per Visit Monchio Delle Corti
REFRESH-INTERVAL;VALUE=DURATION:PT1H
X-Robots-Tag:noindex
X-PUBLISHED-TTL:PT1H
BEGIN:VTIMEZONE
TZID:UTC
BEGIN:STANDARD
TZOFFSETFROM:+0000
TZOFFSETTO:+0000
TZNAME:UTC
DTSTART:20250101T000000
END:STANDARD
END:VTIMEZONE
BEGIN:VEVENT
DTSTART;VALUE=DATE:20260801
DTEND;VALUE=DATE:20260803
DTSTAMP:20260422T222741
CREATED:20260414T152417Z
LAST-MODIFIED:20260415T080545Z
UID:9524-1785542400-1785715199@www.visitmonchiodellecorti.it
SUMMARY:INBRATICA È UN FESTIVAL
DESCRIPTION:INBRATICA È UN FESTIVAL\n1 AGOSTO Casarola: Escursioni\, cucina e musica\n2 AGOSTO Riana: Escursioni\, incontri\, cucina e musica
URL:https://www.visitmonchiodellecorti.it/evento/inbratica-e-un-festival/
LOCATION:Casarola\, Casarola\, PR\, 43010\, Italy
CATEGORIES:SAGRE DI PAESE
ATTACH;FMTTYPE=image/webp:https://www.visitmonchiodellecorti.it/wp-content/uploads/2026/04/Visit-Monchio-evento-2026-INBRATICA-E-UN-FESTIVAL-1-2AGO-scaled.webp
END:VEVENT
BEGIN:VEVENT
DTSTART;VALUE=DATE:20260816
DTEND;VALUE=DATE:20260817
DTSTAMP:20260422T222741
CREATED:20260409T132549Z
LAST-MODIFIED:20260414T151240Z
UID:9442-1786838400-1786924799@www.visitmonchiodellecorti.it
SUMMARY:SAGRA DI SAN ROCCO
DESCRIPTION:SAGRA DI SAN ROCCO\nCena nel Borgo con musica.
URL:https://www.visitmonchiodellecorti.it/evento/sagra-di-san-rocco/
LOCATION:Valditacca\, Valditacca\, PR\, 43010\, Italy
CATEGORIES:SAGRE DI PAESE
ATTACH;FMTTYPE=image/webp:https://www.visitmonchiodellecorti.it/wp-content/uploads/2026/04/Visit-Monchio-evento-2026-SAN-ROCCO-16-AGO-1-scaled.webp
END:VEVENT
BEGIN:VEVENT
DTSTART;TZID=UTC:20260822T180000
DTEND;TZID=UTC:20260822T190000
DTSTAMP:20260422T222741
CREATED:20260409T104121Z
LAST-MODIFIED:20260415T082525Z
UID:9433-1787421600-1787425200@www.visitmonchiodellecorti.it
SUMMARY:FESTA ENT L'ARA E FESTA GIOVANI
DESCRIPTION:FESTA ENT L’ARA e FESTA GIOVANI\n• ORGANIZZATA DA\nAssociazione ODV RIMAGNA REWIND
URL:https://www.visitmonchiodellecorti.it/evento/festa-ent-lara-e-festa-giovani/
LOCATION:Rimagna\, Piazza dell'Aia\, Monchio delle Corti\, PR\, 43010\, Italy
CATEGORIES:SAGRE DI PAESE
ATTACH;FMTTYPE=image/webp:https://www.visitmonchiodellecorti.it/wp-content/uploads/2026/04/Visit-Monchio-evento-2026-FESTA-ENT-L-ARA-22AGO-1-scaled.webp
END:VEVENT
END:VCALENDAR