BEGIN:VCALENDAR
VERSION:2.0
PRODID:-//Visit Monchio Delle Corti - ECPv6.15.17.1//NONSGML v1.0//EN
CALSCALE:GREGORIAN
METHOD:PUBLISH
X-ORIGINAL-URL:https://www.visitmonchiodellecorti.it
X-WR-CALDESC:Eventi per Visit Monchio Delle Corti
REFRESH-INTERVAL;VALUE=DURATION:PT1H
X-Robots-Tag:noindex
X-PUBLISHED-TTL:PT1H
BEGIN:VTIMEZONE
TZID:UTC
BEGIN:STANDARD
TZOFFSETFROM:+0000
TZOFFSETTO:+0000
TZNAME:UTC
DTSTART:20250101T000000
END:STANDARD
END:VTIMEZONE
BEGIN:VEVENT
DTSTART;VALUE=DATE:20260530
DTEND;VALUE=DATE:20260531
DTSTAMP:20260422T173417
CREATED:20260414T084108Z
LAST-MODIFIED:20260415T080342Z
UID:9502-1780099200-1780185599@www.visitmonchiodellecorti.it
SUMMARY:18° RADUNO "NONNINE ROMBANTI"
DESCRIPTION:18° RADUNO NONNINE ROMBANTI\nTIZZANO VAL PARMA – CASAROLA (PR)\n• ITINERARIO/PROGRAMMA\nRitrovo ore 08.00 presso IL Bar “Jolly” di Lagrimone;\nOre 08\,30 Partenza\, itinerario Lagrimone – Casarola;\nOre 09\,30 Visita alla casa del poeta e all’abitato di Casarola;\nOre 11.30 Partenza con passaggio nell’abitato di Monchio delle Corti;\nOre 12\,30 Arrivo e pranzo presso Ostaria dl’Andrea di Monchio delle Corti loc. Trincera;\nOre 16\,00 Rientro libero. \nAVVISI IMPORTANTI:\n1. Dovendoci organizzare\, siete pregati di dare conferma quanto prima.\n2. Ricordiamo che per scelta\, il gruppo “Nonnine Rombanti” non intende guadagnare nulla dai raduni che sono organizzati\, perché si ritiene che alla base della giornata ci sia l’amicizia e la voglia di divertirsi insieme.\n3. Ricordiamo inoltre\, che per necessità assicurative\, solo chi è regolarmente iscritto al circolo ARCS di Reno potrà partecipare al raduno\, pertanto invitiamo i titardatari a tesserarsi. La tessera sarà richiesta all’atto della partenza.\n4. Si raccomanda la puntualità\, saranno osservati gli orari indicati nel programma\, i posti sono limitati. \nInformazioni e prenotazioni:\nLuigi: 3519534920\nMarco: 3382318158 \nPrezzo:\n50 euro a persona (visita con guida e pranzo). \nMENÙ:\nBenvenuto con Prosciutto crudo Ponte Romano 24 mesi\nTortelli di Patate con sugo di Culatello\nRoastbeef di Fassona all’Inglese con patate rustiche croccanti\nGelato artigianale di nostra produzione\nVino\, Acqua\, Caffè
URL:https://www.visitmonchiodellecorti.it/evento/18-raduno-nonnine-rombanti/
LOCATION:Ostaria Dl’Andrea\, SP74 107\, Trincera\, PR\, 43010\, Italy
CATEGORIES:RADUNO/RITROVO/MANIFESTAZIONE
ATTACH;FMTTYPE=image/webp:https://www.visitmonchiodellecorti.it/wp-content/uploads/2026/04/Visit-Monchio-evento-2026-RADUNO-NONNINE-ROMBANTI-30MAG-scaled.webp
END:VEVENT
BEGIN:VEVENT
DTSTART;VALUE=DATE:20260612
DTEND;VALUE=DATE:20260615
DTSTAMP:20260422T173417
CREATED:20260409T131507Z
LAST-MODIFIED:20260414T150652Z
UID:9436-1781222400-1781481599@www.visitmonchiodellecorti.it
SUMMARY:ADUNATA ALPINI SEZIONALE PROVINCIA DI PARMA
DESCRIPTION:ADUNATA ALPINI SEZIONALE PROVINCIA DI PARMA\n• ORGANIZZATA DA\nComune di Monchio delle Corti\nSezione ANA Parma
URL:https://www.visitmonchiodellecorti.it/evento/adunata-alpini-sezionale-provincia-di-parma/
LOCATION:Monchio delle Corti\, Piazza Cabone\, Monchio delle Corti\, PR\, 43010\, Italy
CATEGORIES:RADUNO/RITROVO/MANIFESTAZIONE
ATTACH;FMTTYPE=image/webp:https://www.visitmonchiodellecorti.it/wp-content/uploads/2026/04/Visit-Monchio-evento-2026-FESTA-ALPINI-121314GIU-scaled.webp
END:VEVENT
BEGIN:VEVENT
DTSTART;VALUE=DATE:20260801
DTEND;VALUE=DATE:20260802
DTSTAMP:20260422T173417
CREATED:20260409T133015Z
LAST-MODIFIED:20260414T151029Z
UID:9445-1785542400-1785628799@www.visitmonchiodellecorti.it
SUMMARY:MANIFESTAZIONE "LA TRAVIATA"
DESCRIPTION:MANIFESTAZIONE “LA TRAVIATA”\ncon l’orchestra dei Solisti di Monchio\, il coro di Pellegrino Parmense e la direzione di Attilio Lutero.\n• ORGANIZZATA DA\nAttilio Lutero
URL:https://www.visitmonchiodellecorti.it/evento/manifestazione-la-traviata/
LOCATION:Monchio delle Corti\, Piazza Cabone\, Monchio delle Corti\, PR\, 43010\, Italy
CATEGORIES:RADUNO/RITROVO/MANIFESTAZIONE
ATTACH;FMTTYPE=image/webp:https://www.visitmonchiodellecorti.it/wp-content/uploads/2026/04/Visit-Monchio-evento-2026-LA-TRAVIATA-1AGO-scaled.webp
END:VEVENT
BEGIN:VEVENT
DTSTART;VALUE=DATE:20260807
DTEND;VALUE=DATE:20260808
DTSTAMP:20260422T173417
CREATED:20260415T100953Z
LAST-MODIFIED:20260415T101324Z
UID:9531-1786060800-1786147199@www.visitmonchiodellecorti.it
SUMMARY:STELLE D'ESTATE A RIGOSO
DESCRIPTION:STELLE D’ESTATE A RIGOSO\nInterviene il gruppo “Associazione Astrofili Spezzini”\n• ORGANIZZATA DA\nGiuliana Denari “Affitti Turistici nel Parco dei 100 Laghi”\nPresso il condominio Le Betulle\, Via Pratospilla 2.
URL:https://www.visitmonchiodellecorti.it/evento/stelle-d-estate-a-rigoso/
LOCATION:Bastia di Rigoso\, Via Pratospilla 2\, Rigoso\, PR\, 43010\, Italy
CATEGORIES:RADUNO/RITROVO/MANIFESTAZIONE
ATTACH;FMTTYPE=image/webp:https://www.visitmonchiodellecorti.it/wp-content/uploads/2026/04/Visit-Monchio-evento-2026-STELLE-DI-ESTATE-7AGO-scaled.webp
END:VEVENT
BEGIN:VEVENT
DTSTART;VALUE=DATE:20260814
DTEND;VALUE=DATE:20260815
DTSTAMP:20260422T173417
CREATED:20260416T131539Z
LAST-MODIFIED:20260416T131615Z
UID:9577-1786665600-1786751999@www.visitmonchiodellecorti.it
SUMMARY:APPENNINFEST a PRATOSPILLA
DESCRIPTION:APPENNINFEST\nbancarelle e street food.\n• ORGANIZZATO DA\nComune di Monchio delle Corti
URL:https://www.visitmonchiodellecorti.it/evento/appenninfest-a-pratospilla/
LOCATION:Pratospilla\, Pratospilla\, 43010\, Italia
CATEGORIES:RADUNO/RITROVO/MANIFESTAZIONE
ATTACH;FMTTYPE=image/webp:https://www.visitmonchiodellecorti.it/wp-content/uploads/2026/04/Visit-Monchio-evento-2026-APPENNINFEST-14AGO-scaled.webp
END:VEVENT
END:VCALENDAR