BEGIN:VCALENDAR
VERSION:2.0
PRODID:-//Visit Monchio Delle Corti - ECPv6.15.17.1//NONSGML v1.0//EN
CALSCALE:GREGORIAN
METHOD:PUBLISH
X-ORIGINAL-URL:https://www.visitmonchiodellecorti.it
X-WR-CALDESC:Eventi per Visit Monchio Delle Corti
REFRESH-INTERVAL;VALUE=DURATION:PT1H
X-Robots-Tag:noindex
X-PUBLISHED-TTL:PT1H
BEGIN:VTIMEZONE
TZID:UTC
BEGIN:STANDARD
TZOFFSETFROM:+0000
TZOFFSETTO:+0000
TZNAME:UTC
DTSTART:20250101T000000
END:STANDARD
END:VTIMEZONE
BEGIN:VEVENT
DTSTART;VALUE=DATE:20260717
DTEND;VALUE=DATE:20260718
DTSTAMP:20260422T220326
CREATED:20260414T151746Z
LAST-MODIFIED:20260415T075812Z
UID:9520-1784246400-1784332799@www.visitmonchiodellecorti.it
SUMMARY:CENA SOPRA I 1.000
DESCRIPTION:CENA SOPRA I 1.000\nCASAROLA – RIANA\ncon Parma Quality Restaurant
URL:https://www.visitmonchiodellecorti.it/evento/cena-sopra-i-1-000/
LOCATION:Casarola\, Casarola\, PR\, 43010\, Italy
CATEGORIES:CENA
ATTACH;FMTTYPE=image/webp:https://www.visitmonchiodellecorti.it/wp-content/uploads/2026/04/Visit-Monchio-evento-2026-CENA-SOPRA-I-1000-17LUG-scaled.webp
END:VEVENT
END:VCALENDAR