BEGIN:VCALENDAR
VERSION:2.0
PRODID:-//Visit Monchio Delle Corti - ECPv6.15.17.1//NONSGML v1.0//EN
CALSCALE:GREGORIAN
METHOD:PUBLISH
X-ORIGINAL-URL:https://www.visitmonchiodellecorti.it
X-WR-CALDESC:Eventi per Visit Monchio Delle Corti
REFRESH-INTERVAL;VALUE=DURATION:PT1H
X-Robots-Tag:noindex
X-PUBLISHED-TTL:PT1H
BEGIN:VTIMEZONE
TZID:UTC
BEGIN:STANDARD
TZOFFSETFROM:+0000
TZOFFSETTO:+0000
TZNAME:UTC
DTSTART:20250101T000000
END:STANDARD
END:VTIMEZONE
BEGIN:VEVENT
DTSTART;VALUE=DATE:20260719
DTEND;VALUE=DATE:20260720
DTSTAMP:20260422T222844
CREATED:20260409T134907Z
LAST-MODIFIED:20260414T150843Z
UID:9458-1784419200-1784505599@www.visitmonchiodellecorti.it
SUMMARY:BAGNO IN FORESTA
DESCRIPTION:BAGNO IN FORESTA\nDa Prato Spilla al Lago Ballano\n• ORGANIZZATA DA\nAPS VIA APPENNINO \nDescrizione: \nLo Shinrin-Yoku (bagno in foresta) é una pratica giapponese che consiste in un percorso immersivo in natura con lentezza e in totale consapevolezza. L’esperienza guidata\, della durata di circa 4 ore\, si concluderà con un colorato pic-nic a Prato Spilla. \nPer informazioni e prenotazioni:\nSimona 339 6166518 (organizzatrice – Psicologa e Facilitatrice dei bagni in foresta)\nNadia 339 1741161 (coorganizzatrice – Associazione Via Appennino)
URL:https://www.visitmonchiodellecorti.it/evento/bagno-in-foresta/
LOCATION:Pratospilla\, Pratospilla\, 43010\, Italia
CATEGORIES:ATTIVITÀ OUTDOOR
ATTACH;FMTTYPE=image/webp:https://www.visitmonchiodellecorti.it/wp-content/uploads/2026/04/Visit-Monchio-evento-2026-BAGNO-IN-FORESTA-19LUG-scaled.webp
END:VEVENT
END:VCALENDAR